BEGIN:VCALENDAR
VERSION:2.0
PRODID:-//Pajas entre Colegas – Club de masturbación en Madrid | Eventos y comunidad de bienestar sexual - ECPv6.15.20//NONSGML v1.0//EN
CALSCALE:GREGORIAN
METHOD:PUBLISH
X-WR-CALNAME:Pajas entre Colegas – Club de masturbación en Madrid | Eventos y comunidad de bienestar sexual
X-ORIGINAL-URL:https://pajasentrecolegas.es
X-WR-CALDESC:Eventos para Pajas entre Colegas – Club de masturbación en Madrid | Eventos y comunidad de bienestar sexual
REFRESH-INTERVAL;VALUE=DURATION:PT1H
X-Robots-Tag:noindex
X-PUBLISHED-TTL:PT1H
BEGIN:VTIMEZONE
TZID:Europe/Madrid
BEGIN:DAYLIGHT
TZOFFSETFROM:+0100
TZOFFSETTO:+0200
TZNAME:CEST
DTSTART:20250330T010000
END:DAYLIGHT
BEGIN:STANDARD
TZOFFSETFROM:+0200
TZOFFSETTO:+0100
TZNAME:CET
DTSTART:20251026T010000
END:STANDARD
BEGIN:DAYLIGHT
TZOFFSETFROM:+0100
TZOFFSETTO:+0200
TZNAME:CEST
DTSTART:20260329T010000
END:DAYLIGHT
BEGIN:STANDARD
TZOFFSETFROM:+0200
TZOFFSETTO:+0100
TZNAME:CET
DTSTART:20261025T010000
END:STANDARD
BEGIN:DAYLIGHT
TZOFFSETFROM:+0100
TZOFFSETTO:+0200
TZNAME:CEST
DTSTART:20270328T010000
END:DAYLIGHT
BEGIN:STANDARD
TZOFFSETFROM:+0200
TZOFFSETTO:+0100
TZNAME:CET
DTSTART:20271031T010000
END:STANDARD
END:VTIMEZONE
BEGIN:VEVENT
DTSTART;TZID=Europe/Madrid:20260102T210000
DTEND;TZID=Europe/Madrid:20260102T233000
DTSTAMP:20260421T163809
CREATED:20251223T122830Z
LAST-MODIFIED:20251224T181706Z
UID:23321-1767387600-1767396600@pajasentrecolegas.es
SUMMARY:PeC Madrid – Viernes 2 Enero
DESCRIPTION:🏛️ Asociación PEC · Pajas entre Colegas — Entidad sin ánimo de lucro \n\nActividad privada y exclusiva para socios. Las aportaciones/cuotas se destinan íntegramente al mantenimiento del local\, limpieza\, suministros y actividades asociativas. \n\n🕗 HORARIO Y ACCESO \n⏱️Check-in: 20:00–21:00. La entrada solo se realiza dentro de esa franja.🔐A las 21:00 la puerta se cierra y no se permite la entrada a personas que lleguen tarde.⏳Sugerencia: llega antes de 20:45 para un acceso ágil. \n🚫Nota: Las llegadas fuera de horario no dan derecho a reembolso ni cambio de entrada. \n\nℹ️ Naturaleza del evento (ámbito asociativo)PeC es un club privado exclusivo para hombres adultos. Organizamos encuentros de masturbación grupal y mutua desde el \n✅ Requisitos de acceso• ✅ Solo mayores de 18 y miembros del club.• Miembros registrados (puedes hacerte socio en puerta o en nuestra web)• 🤝Aceptar y cumplir el Código de Conducta \n🧭 Normas de conducta• Se permite la masturbación abierta y mutua\, siempre con consentimiento• Prohibido el sexo anal u oral y cualquier penetración• “Nada entra en nada” y no hay labios bajo la cintura \n💶 APORTACIÓN• Tu aportación es una contribución asociativa destinada 100% al mantenimiento de las instalaciones y a la actividad de la asociación (sin reparto de beneficios). \n🎟️ Aportación y reserva• Recomendamos gestionar la aportación online.• En puerta: recargo de 6 € y solo en efectivo. \n📍 Dirección y control de acceso• C/ Marqués de Urquijo 42\, Madrid• Portero automático: pulsa el botón justo debajo del primero; el staff abrirá al oírlo• El vigilante solicitará tu documento de identidad \n⚖️ Aviso legalEvento privado para socios; prohibida la grabación o difusión de imágenes dentro del club. Las aportaciones/cuotas se destinan íntegramente al mantenimiento de las instalaciones y a la actividad asociativa.. \n📞 CONTACTO✉️ info@pajasentrecolegas.es · 📱 WhatsApp 666 83 83 91
URL:https://pajasentrecolegas.es/event/pec-madrid-viernes-2-enero/
LOCATION:Sede Principal Madrid – Argüelles (Club de Pajas Madrid)\, Calle del Marqués de Urquijo\, 42\, Madrid\, Madrid\, 28008\, Spain
CATEGORIES:* Madrid
ATTACH;FMTTYPE=image/png:https://pajasentrecolegas.es/wp-content/uploads/2025/12/cartel-pec-23321-1766600214.png
ORGANIZER;CN="Jota Master":MAILTO:nacho@pajasentrecolegas.es
END:VEVENT
BEGIN:VEVENT
DTSTART;TZID=Europe/Madrid:20260104T190000
DTEND;TZID=Europe/Madrid:20260104T213000
DTSTAMP:20260421T163809
CREATED:20251223T135935Z
LAST-MODIFIED:20260104T161257Z
UID:23363-1767553200-1767562200@pajasentrecolegas.es
SUMMARY:PeC Madrid – Domingo 4 enero Tarde PeCAR
DESCRIPTION:🏛️ Asociación PEC · Pajas entre Colegas — Entidad sin ánimo de lucroActividad privada y exclusiva para socios. Las aportaciones/cuotas se destinan íntegramente al mantenimiento del local\, limpieza\, suministros y actividades asociativas. \n\n🕗 HORARIO Y ACCESO \n⏱️Check-in: 18:00–19:00. La entrada solo se realiza dentro de esa franja.🔐A las 19:00 la puerta se cierra y no se permite la entrada a personas que lleguen tarde.⏳Sugerencia: llega antes de 18:45 para un acceso ágil. \n🚫Nota: Las llegadas fuera de horario no dan derecho a reembolso ni cambio de entrada. \n\nℹ️ Naturaleza del evento (ámbito asociativo)PeC es un club privado exclusivo para hombres adultos. Organizamos encuentros de masturbación grupal y mutua desde el \n✅ Requisitos de acceso• ✅ Solo mayores de 18 y miembros del club.• Miembros registrados (puedes hacerte socio en puerta o en nuestra web)• 🤝Aceptar y cumplir el Código de Conducta \n🧭 Normas de conducta• Se permite la masturbación abierta y mutua\, siempre con consentimiento• Prohibido el sexo anal u oral y cualquier penetración• “Nada entra en nada” y no hay labios bajo la cintura \n💶 APORTACIÓN• Tu aportación es una contribución asociativa destinada 100% al mantenimiento de las instalaciones y a la actividad de la asociación (sin reparto de beneficios). \n🎟️ Aportación y reserva• Recomendamos gestionar la aportación online.• En puerta: recargo de 6 € y solo en efectivo. \n📍 Dirección y control de acceso• C/ Marqués de Urquijo 42\, Madrid• Portero automático: pulsa el botón justo debajo del primero; el staff abrirá al oírlo• El vigilante solicitará tu documento de identidad \n⚖️ Aviso legalEvento privado para socios; prohibida la grabación o difusión de imágenes dentro del club. Las aportaciones/cuotas se destinan íntegramente al mantenimiento de las instalaciones y a la actividad asociativa.. \n📞 CONTACTO✉️ info@pajasentrecolegas.es · 📱 WhatsApp 666 83 83 91
URL:https://pajasentrecolegas.es/event/pec-madrid-domingo-4-enero-tarde-pecar/
LOCATION:Sede Principal Madrid – Argüelles (Club de Pajas Madrid)\, Calle del Marqués de Urquijo\, 42\, Madrid\, Madrid\, 28008\, Spain
CATEGORIES:Pases Bonificados,TardePECar
ATTACH;FMTTYPE=image/png:https://pajasentrecolegas.es/wp-content/uploads/2025/12/cartel-pec-23363-1766664981.png
ORGANIZER;CN="Jota Master":MAILTO:nacho@pajasentrecolegas.es
END:VEVENT
BEGIN:VEVENT
DTSTART;TZID=Europe/Madrid:20260108T210000
DTEND;TZID=Europe/Madrid:20260108T233000
DTSTAMP:20260421T163809
CREATED:20251223T141609Z
LAST-MODIFIED:20260108T175748Z
UID:23403-1767906000-1767915000@pajasentrecolegas.es
SUMMARY:PeC Madrid – jueves 8 enero PeC-liculas "PrEcio de Cine"
DESCRIPTION:🎬 JUEVES DE PeC-LÍCULAS · ¡PLANAZO! \n\n🏛️ Asociación PEC · Pajas entre Colegas — Entidad sin ánimo de lucroActividad privada y exclusiva para socios. Las aportaciones/cuotas se destinan íntegramente al mantenimiento del local\, limpieza\, suministros y actividades asociativas. \n😈 Este jueves tienes una cita con el placer. Ven a PeC-lículas y disfruta de cine X en ambiente morboso y de colegueo\, con precio reducido para socios con cuota y nuestra actividad estrella ya permitida. La diversión está garantizada. \n\n🕗 HORARIO Y ACCESO \n⏱️Check-in: 20:00–21:00. La entrada solo se realiza dentro de esa franja.🔐A las 21:00 la puerta se cierra y no se permite la entrada a personas que lleguen tarde.⏳Sugerencia: llega antes de 20:45 para un acceso ágil. \n🚫Nota: Las llegadas fuera de horario no dan derecho a reembolso ni cambio de entrada. \n\n💳 ENTRADAS• Tarifa reducida exclusiva para socios con cuota activa.• En puerta: recargo de 6 € (pago en efectivo). \n📍 ACCESO• Dirección: C/ Marqués de Urquijo 42\, Madrid.• Portero automático: pulsa el botón situado justo debajo del primero; el staff te abre.• Control de acceso: el vigilante solicitará tu identificación \n\nℹ️ ¿QUÉ ES PAJAS ENTRE COLEGAS?PeC es un club privado de masturbación grupal entre hombres adultos. Las reuniones son exclusivas para miembros. Puedes hacerte socio en la puerta o en la web antes del evento. \n✅ REQUISITOS DE MEMBRESÍA• +18 años• Identificarse como hombre• Aceptar y cumplir el Código de Conducta \n🧭 REGLAS DEL JUEGO• Aquí venimos a disfrutar del placer\, el respeto y el colegueo sin tabúes.• Se permite la masturbación abierta y mutua\, siempre con consentimiento.• Prohibido el sexo oral\, anal o cualquier penetración.• Nada va dentro de nada de nadie y no hay labios debajo de las caderas. \n\n📞 CONTACTO✉️ info@pajasentrecolegas.es · 📱 WhatsApp 666 83 83 91 \n⚖️ AVISO LEGALPEC es una asociación sin ánimo de lucro: tu aportación ayuda a mantener el espacio y la actividad comunitaria. Evento privado para socios\, no abierto al público general. Prohibida la grabación o difusión de imágenes dentro del club. \n*Consúltanos
URL:https://pajasentrecolegas.es/event/pec-madrid-jueves-8-enero-pec-liculas-precio-de-cine/
LOCATION:Sede Principal Madrid – Argüelles (Club de Pajas Madrid)\, Calle del Marqués de Urquijo\, 42\, Madrid\, Madrid\, 28008\, Spain
CATEGORIES:Pases Bonificados,PeC-liculas
ATTACH;FMTTYPE=image/png:https://pajasentrecolegas.es/wp-content/uploads/2025/12/cartel-pec-23403-1766664829.png
ORGANIZER;CN="Jota Master":MAILTO:nacho@pajasentrecolegas.es
END:VEVENT
BEGIN:VEVENT
DTSTART;TZID=Europe/Madrid:20260109T210000
DTEND;TZID=Europe/Madrid:20260109T233000
DTSTAMP:20260421T163809
CREATED:20251223T134540Z
LAST-MODIFIED:20260109T172623Z
UID:23331-1767992400-1768001400@pajasentrecolegas.es
SUMMARY:PeC Madrid – Viernes 9 Enero
DESCRIPTION:🏛️ Asociación PEC · Pajas entre Colegas — Entidad sin ánimo de lucro \n\nActividad privada y exclusiva para socios. Las aportaciones/cuotas se destinan íntegramente al mantenimiento del local\, limpieza\, suministros y actividades asociativas. \n\n🕗 HORARIO Y ACCESO \n⏱️Check-in: 20:00–21:00. La entrada solo se realiza dentro de esa franja.🔐A las 21:00 la puerta se cierra y no se permite la entrada a personas que lleguen tarde.⏳Sugerencia: llega antes de 20:45 para un acceso ágil. \n🚫Nota: Las llegadas fuera de horario no dan derecho a reembolso ni cambio de entrada. \n\nℹ️ Naturaleza del evento (ámbito asociativo)PeC es un club privado exclusivo para hombres adultos. Organizamos encuentros de masturbación grupal y mutua desde el \n✅ Requisitos de acceso• ✅ Solo mayores de 18 y miembros del club.• Miembros registrados (puedes hacerte socio en puerta o en nuestra web)• 🤝Aceptar y cumplir el Código de Conducta \n🧭 Normas de conducta• Se permite la masturbación abierta y mutua\, siempre con consentimiento• Prohibido el sexo anal u oral y cualquier penetración• “Nada entra en nada” y no hay labios bajo la cintura \n💶 APORTACIÓN• Tu aportación es una contribución asociativa destinada 100% al mantenimiento de las instalaciones y a la actividad de la asociación (sin reparto de beneficios). \n🎟️ Aportación y reserva• Recomendamos gestionar la aportación online.• En puerta: recargo de 6 € y solo en efectivo. \n📍 Dirección y control de acceso• C/ Marqués de Urquijo 42\, Madrid• Portero automático: pulsa el botón justo debajo del primero; el staff abrirá al oírlo• El vigilante solicitará tu documento de identidad \n⚖️ Aviso legalEvento privado para socios; prohibida la grabación o difusión de imágenes dentro del club. Las aportaciones/cuotas se destinan íntegramente al mantenimiento de las instalaciones y a la actividad asociativa.. \n📞 CONTACTO✉️ info@pajasentrecolegas.es · 📱 WhatsApp 666 83 83 91
URL:https://pajasentrecolegas.es/event/pec-madrid-viernes-9-enero/
LOCATION:Sede Principal Madrid – Argüelles (Club de Pajas Madrid)\, Calle del Marqués de Urquijo\, 42\, Madrid\, Madrid\, 28008\, Spain
CATEGORIES:* Madrid
ATTACH;FMTTYPE=image/png:https://pajasentrecolegas.es/wp-content/uploads/2025/12/cartel-pec-23331-1766600010.png
ORGANIZER;CN="Jota Master":MAILTO:nacho@pajasentrecolegas.es
END:VEVENT
BEGIN:VEVENT
DTSTART;TZID=Europe/Madrid:20260115T210000
DTEND;TZID=Europe/Madrid:20260115T233000
DTSTAMP:20260421T163809
CREATED:20251223T141817Z
LAST-MODIFIED:20251225T120909Z
UID:23411-1768510800-1768519800@pajasentrecolegas.es
SUMMARY:PeC Madrid – jueves 15 enero PeC-liculas "PrEcio de Cine"
DESCRIPTION:🎬 JUEVES DE PeC-LÍCULAS · ¡PLANAZO! \n\n🏛️ Asociación PEC · Pajas entre Colegas — Entidad sin ánimo de lucroActividad privada y exclusiva para socios. Las aportaciones/cuotas se destinan íntegramente al mantenimiento del local\, limpieza\, suministros y actividades asociativas. \n😈 Este jueves tienes una cita con el placer. Ven a PeC-lículas y disfruta de cine X en ambiente morboso y de colegueo\, con precio reducido para socios con cuota y nuestra actividad estrella ya permitida. La diversión está garantizada. \n\n🕗 HORARIO Y ACCESO \n⏱️Check-in: 20:00–21:00. La entrada solo se realiza dentro de esa franja.🔐A las 21:00 la puerta se cierra y no se permite la entrada a personas que lleguen tarde.⏳Sugerencia: llega antes de 20:45 para un acceso ágil. \n🚫Nota: Las llegadas fuera de horario no dan derecho a reembolso ni cambio de entrada. \n\n💳 ENTRADAS• Tarifa reducida exclusiva para socios con cuota activa.• En puerta: recargo de 6 € (pago en efectivo). \n📍 ACCESO• Dirección: C/ Marqués de Urquijo 42\, Madrid.• Portero automático: pulsa el botón situado justo debajo del primero; el staff te abre.• Control de acceso: el vigilante solicitará tu identificación \n\nℹ️ ¿QUÉ ES PAJAS ENTRE COLEGAS?PeC es un club privado de masturbación grupal entre hombres adultos. Las reuniones son exclusivas para miembros. Puedes hacerte socio en la puerta o en la web antes del evento. \n✅ REQUISITOS DE MEMBRESÍA• +18 años• Identificarse como hombre• Aceptar y cumplir el Código de Conducta \n🧭 REGLAS DEL JUEGO• Aquí venimos a disfrutar del placer\, el respeto y el colegueo sin tabúes.• Se permite la masturbación abierta y mutua\, siempre con consentimiento.• Prohibido el sexo oral\, anal o cualquier penetración.• Nada va dentro de nada de nadie y no hay labios debajo de las caderas. \n\n📞 CONTACTO✉️ info@pajasentrecolegas.es · 📱 WhatsApp 666 83 83 91 \n⚖️ AVISO LEGALPEC es una asociación sin ánimo de lucro: tu aportación ayuda a mantener el espacio y la actividad comunitaria. Evento privado para socios\, no abierto al público general. Prohibida la grabación o difusión de imágenes dentro del club. \n*Consúltanos
URL:https://pajasentrecolegas.es/event/pec-madrid-jueves-15-enero-pec-liculas-precio-de-cine/
LOCATION:Sede Principal Madrid – Argüelles (Club de Pajas Madrid)\, Calle del Marqués de Urquijo\, 42\, Madrid\, Madrid\, 28008\, Spain
CATEGORIES:Pases Bonificados,PeC-liculas
ATTACH;FMTTYPE=image/png:https://pajasentrecolegas.es/wp-content/uploads/2025/12/cartel-pec-23411-1766664536.png
ORGANIZER;CN="Jota Master":MAILTO:nacho@pajasentrecolegas.es
END:VEVENT
BEGIN:VEVENT
DTSTART;TZID=Europe/Madrid:20260122T210000
DTEND;TZID=Europe/Madrid:20260122T233000
DTSTAMP:20260421T163809
CREATED:20251223T142050Z
LAST-MODIFIED:20260122T180647Z
UID:23419-1769115600-1769124600@pajasentrecolegas.es
SUMMARY:PeC Madrid – jueves 22 enero PeC-liculas "PrEcio de Cine"
DESCRIPTION:🎬 JUEVES DE PeC-LÍCULAS · ¡PLANAZO! \n\n🏛️ Asociación PEC · Pajas entre Colegas — Entidad sin ánimo de lucroActividad privada y exclusiva para socios. Las aportaciones/cuotas se destinan íntegramente al mantenimiento del local\, limpieza\, suministros y actividades asociativas. \n😈 Este jueves tienes una cita con el placer. Ven a PeC-lículas y disfruta de cine X en ambiente morboso y de colegueo\, con precio reducido para socios con cuota y nuestra actividad estrella ya permitida. La diversión está garantizada. \n\n🕗 HORARIO Y ACCESO \n⏱️Check-in: 20:00–21:00. La entrada solo se realiza dentro de esa franja.🔐A las 21:00 la puerta se cierra y no se permite la entrada a personas que lleguen tarde.⏳Sugerencia: llega antes de 20:45 para un acceso ágil. \n🚫Nota: Las llegadas fuera de horario no dan derecho a reembolso ni cambio de entrada. \n\n💳 ENTRADAS• Tarifa reducida exclusiva para socios con cuota activa.• En puerta: recargo de 6 € (pago en efectivo). \n📍 ACCESO• Dirección: C/ Marqués de Urquijo 42\, Madrid.• Portero automático: pulsa el botón situado justo debajo del primero; el staff te abre.• Control de acceso: el vigilante solicitará tu identificación \n\nℹ️ ¿QUÉ ES PAJAS ENTRE COLEGAS?PeC es un club privado de masturbación grupal entre hombres adultos. Las reuniones son exclusivas para miembros. Puedes hacerte socio en la puerta o en la web antes del evento. \n✅ REQUISITOS DE MEMBRESÍA• +18 años• Identificarse como hombre• Aceptar y cumplir el Código de Conducta \n🧭 REGLAS DEL JUEGO• Aquí venimos a disfrutar del placer\, el respeto y el colegueo sin tabúes.• Se permite la masturbación abierta y mutua\, siempre con consentimiento.• Prohibido el sexo oral\, anal o cualquier penetración.• Nada va dentro de nada de nadie y no hay labios debajo de las caderas. \n\n📞 CONTACTO✉️ info@pajasentrecolegas.es · 📱 WhatsApp 666 83 83 91 \n⚖️ AVISO LEGALPEC es una asociación sin ánimo de lucro: tu aportación ayuda a mantener el espacio y la actividad comunitaria. Evento privado para socios\, no abierto al público general. Prohibida la grabación o difusión de imágenes dentro del club. \n*Consúltanos
URL:https://pajasentrecolegas.es/event/pec-madrid-jueves-22-enero-pec-liculas-precio-de-cine/
LOCATION:Sede Principal Madrid – Argüelles (Club de Pajas Madrid)\, Calle del Marqués de Urquijo\, 42\, Madrid\, Madrid\, 28008\, Spain
CATEGORIES:Pases Bonificados,PeC-liculas
ATTACH;FMTTYPE=image/png:https://pajasentrecolegas.es/wp-content/uploads/2025/12/cartel-pec-23419-1766663739.png
ORGANIZER;CN="Jota Master":MAILTO:nacho@pajasentrecolegas.es
END:VEVENT
BEGIN:VEVENT
DTSTART;TZID=Europe/Madrid:20260124T210000
DTEND;TZID=Europe/Madrid:20260124T233000
DTSTAMP:20260421T163809
CREATED:20251228T162137Z
LAST-MODIFIED:20260121T165214Z
UID:23435-1769288400-1769297400@pajasentrecolegas.es
SUMMARY:🔥 Alberto Raw en Pajas Entre Colegas: Talleres Performativos ¿ATREVIMIENTO O VERDAD?
DESCRIPTION:🎭 EVENTO 1 – ATREVIMIENTO O VERDAD\n«ATREVIMIENTO O VERDAD» 🔥🎲 – Alberto Raw x PeC \n¿Quién no ha jugado de crío a “Atrevimiento o verdad” sin saber que aquello nos estaba reprogramando la cabeza? 😏En este primer acto de la Trilogía del Atrevimiento\, Alberto Raw nos trae a PeC un juego que parece inocente\, pero que abre en canal todo lo que intentamos esconder: el miedo a no encajar\, la necesidad de gustar y la presión de “ser como se espera de nosotros”. \nA partir de un juego infantil\, la performance convierte la sala en un patio de recreo retorcido: preguntas incómodas\, decisiones que exponen deseos y límites\, y un grupo de tíos enfrentándose a lo que realmente quieren… y a lo que creen que “deberían” querer.Aquí se mezclan humor\, incomodidad\, morbo y reflexión 🤯No se trata solo de sexo\, sino de ver de dónde sale nuestro carácter\, cómo leemos a los demás y cómo nos dejamos moldear por las expectativas ajenas. \nEn PeC lo llevamos a nuestro terreno: \n🎯 Jugaremos en grupo y también de forma más íntima. \n😬 Habrá momentos de diálogo\, de juego y de mirar hacia dentro (aunque dé vergüenza). \n🧪 No vienes a “ver algo”; vienes a formar parte del experimento. \nSi te atreves a jugar\, prepárate para salir con la sensación de que el mayor acto de rebeldía quizá sea permitirte ser feliz tal y como eres 💥 \n\n💶 Precios y reservas (no es entrada libre)\n👉 No es entrada libre.Es un evento interno del club\, con plazas limitadas y solo con reserva previa. \n😈 Si no eres socio PeC \n                                  Entrada solo para este primer acto: 20 € Aquí \n                                  O puedes pillar ya el Pase Trilogía del Atrevimiento: 50 € Aquí \n                                                                        El pase te da acceso a los 3 eventos (Acto 1\, 2 y 3) sin necesidad de hacerte socio. \n                                  En todos los casos tendrás que aceptar las normas del club. \n🧑‍🤝‍🧑 Si ya eres socio PeC \n                                  Tendrás condiciones especiales según tu tipo de socio ver accesos. \n🔐 Cómo se reserva \n                                 Reserva y pago se hacen online\, a través de la web/app (no garantizamos entrada en puerta). \n                                 Una vez confirmada la reserva\, recibirás los datos de acceso\, horarios y cómo entrar al local con discreción. \n* En este evento no esta permitido la invitación del socio con el Acceso Quiero Probar \n\nEXPERIENCIA PROFESIONAL Alberto Raw \nTelevisión \n• «SANTUARIO»\, de POOKEPSIE FILMS para TVE (2024). Episódico de reparto.\n• «LA NOVIA GITANA»\, de Paco Cabeza. Personaje de reparto. 2022\n• «INVISIBLES» Personaje de reparto. 2023\n• «SI LO HUBIERA SABIDO»\, dirigida por Lili Bocanegra para Netflix. Personaje: Jonhy. Personaje de reparto. 2021\n• «IN FROM THE COLD»\, coproducción internacional para Netflix. Reparto. 2022\n• «STORIES FROM NORWAY»\, producción internacional para APPLE TV. Reparto 2021.\n• «DULCES DE BARRIO»\, serie web de Israel González. Personaje reparto. 2021/22. . \nCine \n•«LA VIDA QUE NO ES NUESTRA». de Israel González interpretando el papel de «Alberto». 2022. \nCortometrajes \n• 2021 Protagoniza el cortometraje «El discreto encanto de la autoría» dirigido por Andrés Robleda.\n• 2021 Personaje principal en el cortometraje «Ínutil» de Raquel Guerrero con el personaje de «Cuco».\n• 2022 Personaje principal en el cortometraje «Mermaid Killer» de Israel González con el papel de «Jhon».\n• 2022 Personaje principal en el cortometraje «Yo no fui» de Javier Mangas en el personaje de «José».
URL:https://pajasentrecolegas.es/event/%f0%9f%94%a5-alberto-raw-en-pajas-entre-colegas-talleres-performativos-atrevimiento-o-verdad/
LOCATION:Sede Principal Madrid – Argüelles (Club de Pajas Madrid)\, Calle del Marqués de Urquijo\, 42\, Madrid\, Madrid\, 28008\, Spain
CATEGORIES:Sabado,Talleres & Cursos
ATTACH;FMTTYPE=image/png:https://pajasentrecolegas.es/wp-content/uploads/2026/01/cartel-pec-23435-1768660580.png
END:VEVENT
BEGIN:VEVENT
DTSTART;TZID=Europe/Madrid:20260125T190000
DTEND;TZID=Europe/Madrid:20260125T213000
DTSTAMP:20260421T163809
CREATED:20251223T140328Z
LAST-MODIFIED:20251225T115238Z
UID:23371-1769367600-1769376600@pajasentrecolegas.es
SUMMARY:PeC Madrid – Domingo 25 enero Tarde PeCAR
DESCRIPTION:🏛️ Asociación PEC · Pajas entre Colegas — Entidad sin ánimo de lucroActividad privada y exclusiva para socios. Las aportaciones/cuotas se destinan íntegramente al mantenimiento del local\, limpieza\, suministros y actividades asociativas. \n\n🕗 HORARIO Y ACCESO \n⏱️Check-in: 18:00–19:00. La entrada solo se realiza dentro de esa franja.🔐A las 19:00 la puerta se cierra y no se permite la entrada a personas que lleguen tarde.⏳Sugerencia: llega antes de 18:45 para un acceso ágil. \n🚫Nota: Las llegadas fuera de horario no dan derecho a reembolso ni cambio de entrada. \n\nℹ️ Naturaleza del evento (ámbito asociativo)PeC es un club privado exclusivo para hombres adultos. Organizamos encuentros de masturbación grupal y mutua desde el \n✅ Requisitos de acceso• ✅ Solo mayores de 18 y miembros del club.• Miembros registrados (puedes hacerte socio en puerta o en nuestra web)• 🤝Aceptar y cumplir el Código de Conducta \n🧭 Normas de conducta• Se permite la masturbación abierta y mutua\, siempre con consentimiento• Prohibido el sexo anal u oral y cualquier penetración• “Nada entra en nada” y no hay labios bajo la cintura \n💶 APORTACIÓN• Tu aportación es una contribución asociativa destinada 100% al mantenimiento de las instalaciones y a la actividad de la asociación (sin reparto de beneficios). \n🎟️ Aportación y reserva• Recomendamos gestionar la aportación online.• En puerta: recargo de 6 € y solo en efectivo. \n📍 Dirección y control de acceso• C/ Marqués de Urquijo 42\, Madrid• Portero automático: pulsa el botón justo debajo del primero; el staff abrirá al oírlo• El vigilante solicitará tu documento de identidad \n⚖️ Aviso legalEvento privado para socios; prohibida la grabación o difusión de imágenes dentro del club. Las aportaciones/cuotas se destinan íntegramente al mantenimiento de las instalaciones y a la actividad asociativa.. \n📞 CONTACTO✉️ info@pajasentrecolegas.es · 📱 WhatsApp 666 83 83 91
URL:https://pajasentrecolegas.es/event/pec-madrid-domingo-25-enero-tarde-pecar/
LOCATION:Sede Principal Madrid – Argüelles (Club de Pajas Madrid)\, Calle del Marqués de Urquijo\, 42\, Madrid\, Madrid\, 28008\, Spain
CATEGORIES:Pases Bonificados,TardePECar
ATTACH;FMTTYPE=image/png:https://pajasentrecolegas.es/wp-content/uploads/2025/12/cartel-pec-23371-1766663547.png
ORGANIZER;CN="Jota Master":MAILTO:nacho@pajasentrecolegas.es
END:VEVENT
BEGIN:VEVENT
DTSTART;TZID=Europe/Madrid:20260131T210000
DTEND;TZID=Europe/Madrid:20260131T233000
DTSTAMP:20260421T163809
CREATED:20260111T142711Z
LAST-MODIFIED:20260130T200013Z
UID:23707-1769893200-1769902200@pajasentrecolegas.es
SUMMARY:🔥 Alberto Raw en Pajas Entre Colegas: Talleres Performativos LA MANO DIVINA
DESCRIPTION:EVENTO 2 · TRILOGÍA DEL ATREVIMIENTO\n«LA MANO DIVINA» 🙌✨ – Alberto Raw x PeC\nEn el segundo acto de la trilogía\, dejamos el patio de recreo y nos metemos de lleno en terreno “sagrado”: La Mano Divina.Aquí aparece un Ente\, una figura divinizada que no juzga\, no señala y no te dice “eso está mal”; al contrario\, te valida tus deseos y te presta su mano (y su cuerpo) como canal de placer y exploración 😈 \nLa performance juega con algo muy potente: cuando alguien “superior” legitima lo que sientes\, de repente dejas de verlo como sucio o incorrecto. Alberto Raw utiliza este Ente para que el público se pregunte: \n\n\n🤔 ¿Quién decide qué deseos son válidos? \n\n\n🧱 ¿Cuánto de lo que hago lo hago por mí y cuánto por miedo al juicio de los demás? \n\n\n🧨 ¿Qué pasa si\, por una vez\, dejo de sentir culpa? \n\n\nEn PeC\, “La Mano Divina” se vive como un ritual performático donde: \n\n\n🙋‍♂️ El público puede interactuar con el Ente y con la escena. \n\n\n💦 Se exploran el auto placer\, la curiosidad y el consentimiento desde el juego teatral. \n\n\n🛟 Se abre un espacio seguro para hablar (y sentir) sobre el cuerpo\, el deseo y la vergüenza. \n\n\nNo es porno\, no es misa y no es terapia… pero te vas a llevar un buen meneo mental\, y quizá algo más profundo: la sensación de que no necesitas permiso de nadie para disfrutar de tu cuerpo 🔥 \n💶 Precios y reservas (no es entrada libre)\n👉 No es entrada libre.Es un evento interno del club\, con plazas limitadas y solo con reserva previa. \n😈 Si no eres socio PeC \n                                  Entrada solo para este primer acto: 20 € Aquí \n                                  O puedes pillar ya el Pase Trilogía del Atrevimiento: 50 € Aquí \n                                                                        El pase te da acceso a los 3 eventos (Acto 1\, 2 y 3) sin necesidad de hacerte socio. \n                                  En todos los casos tendrás que aceptar las normas del club. \n🧑‍🤝‍🧑 Si ya eres socio PeC \n                                  Tendrás condiciones especiales según tu tipo de socio ver accesos. \n🔐 Cómo se reserva \n                                 Reserva y pago se hacen online\, a través de la web/app (no garantizamos entrada en puerta). \n                                 Una vez confirmada la reserva\, recibirás los datos de acceso\, horarios y cómo entrar al local con discreción. \n* En este evento no esta permitido la invitación del socio con el Acceso Quiero Probar \n\nEXPERIENCIA PROFESIONAL Alberto Raw \nTelevisión \n• «SANTUARIO»\, de POOKEPSIE FILMS para TVE (2024). Episódico de reparto.\n• «LA NOVIA GITANA»\, de Paco Cabeza. Personaje de reparto. 2022\n• «INVISIBLES» Personaje de reparto. 2023\n• «SI LO HUBIERA SABIDO»\, dirigida por Lili Bocanegra para Netflix. Personaje: Jonhy. Personaje de reparto. 2021\n• «IN FROM THE COLD»\, coproducción internacional para Netflix. Reparto. 2022\n• «STORIES FROM NORWAY»\, producción internacional para APPLE TV. Reparto 2021.\n• «DULCES DE BARRIO»\, serie web de Israel González. Personaje reparto. 2021/22. . \nCine \n•«LA VIDA QUE NO ES NUESTRA». de Israel González interpretando el papel de «Alberto». 2022. \nCortometrajes \n• 2021 Protagoniza el cortometraje «El discreto encanto de la autoría» dirigido por Andrés Robleda.\n• 2021 Personaje principal en el cortometraje «Ínutil» de Raquel Guerrero con el personaje de «Cuco».\n• 2022 Personaje principal en el cortometraje «Mermaid Killer» de Israel González con el papel de «Jhon».\n• 2022 Personaje principal en el cortometraje «Yo no fui» de Javier Mangas en el personaje de «José».
URL:https://pajasentrecolegas.es/event/%f0%9f%94%a5-alberto-raw-en-pajas-entre-colegas-talleres-performativos-la-mano-divina/
LOCATION:Sede Principal Madrid – Argüelles (Club de Pajas Madrid)\, Calle del Marqués de Urquijo\, 42\, Madrid\, Madrid\, 28008\, Spain
CATEGORIES:Sabado,Talleres & Cursos
ATTACH;FMTTYPE=image/png:https://pajasentrecolegas.es/wp-content/uploads/2026/01/cartel-pec-23707-1768660469.png
END:VEVENT
END:VCALENDAR