BEGIN:VCALENDAR
VERSION:2.0
PRODID:-//Pajas entre Colegas – Club de masturbación en Madrid | Eventos y comunidad de bienestar sexual - ECPv6.15.20//NONSGML v1.0//EN
CALSCALE:GREGORIAN
METHOD:PUBLISH
X-ORIGINAL-URL:https://pajasentrecolegas.es
X-WR-CALDESC:Eventos para Pajas entre Colegas – Club de masturbación en Madrid | Eventos y comunidad de bienestar sexual
REFRESH-INTERVAL;VALUE=DURATION:PT1H
X-Robots-Tag:noindex
X-PUBLISHED-TTL:PT1H
BEGIN:VTIMEZONE
TZID:Europe/Madrid
BEGIN:DAYLIGHT
TZOFFSETFROM:+0100
TZOFFSETTO:+0200
TZNAME:CEST
DTSTART:20240331T010000
END:DAYLIGHT
BEGIN:STANDARD
TZOFFSETFROM:+0200
TZOFFSETTO:+0100
TZNAME:CET
DTSTART:20241027T010000
END:STANDARD
BEGIN:DAYLIGHT
TZOFFSETFROM:+0100
TZOFFSETTO:+0200
TZNAME:CEST
DTSTART:20250330T010000
END:DAYLIGHT
BEGIN:STANDARD
TZOFFSETFROM:+0200
TZOFFSETTO:+0100
TZNAME:CET
DTSTART:20251026T010000
END:STANDARD
BEGIN:DAYLIGHT
TZOFFSETFROM:+0100
TZOFFSETTO:+0200
TZNAME:CEST
DTSTART:20260329T010000
END:DAYLIGHT
BEGIN:STANDARD
TZOFFSETFROM:+0200
TZOFFSETTO:+0100
TZNAME:CET
DTSTART:20261025T010000
END:STANDARD
END:VTIMEZONE
BEGIN:VEVENT
DTSTART;TZID=Europe/Madrid:20251002T210000
DTEND;TZID=Europe/Madrid:20251002T233000
DTSTAMP:20260425T154104
CREATED:20250926T200011Z
LAST-MODIFIED:20251002T192111Z
UID:21712-1759438800-1759447800@pajasentrecolegas.es
SUMMARY:PeC Madrid – jueves 2 de octubre "PrEcio de Cine"
DESCRIPTION:🎬 JUEVES DE PeC-LÍCULAS · ¡PLANAZO! \n🏛️ Asociación PEC · Pajas entre Colegas — Entidad sin ánimo de lucroActividad privada y exclusiva para socios. Las aportaciones/cuotas se destinan íntegramente al mantenimiento del local\, limpieza\, suministros y actividades asociativas. \n😈 Este jueves tienes una cita con el placer. Ven a PeC-lículas y disfruta de cine X en ambiente morboso y de colegueo\, con precio reducido para socios con cuota y nuestra actividad estrella ya permitida. La diversión está garantizada. \n\n🕗 HORARIO Y ACCESO \n⏱️Check-in: 20:00–21:00. La entrada solo se realiza dentro de esa franja.🔐A las 21:00 la puerta se cierra y no se permite la entrada a personas que lleguen tarde.⏳Sugerencia: llega antes de 20:45 para un acceso ágil. \n🚫Nota: Las llegadas fuera de horario no dan derecho a reembolso ni cambio de entrada. \n\n💳 ENTRADAS• Tarifa reducida exclusiva para socios con cuota activa.• En puerta: recargo de 6 € (pago en efectivo). \n📍 ACCESO• Dirección: C/ Marqués de Urquijo 42\, Madrid.• Portero automático: pulsa el botón situado justo debajo del primero; el staff te abre.• Control de acceso: el vigilante solicitará tu identificación \n\nℹ️ ¿QUÉ ES PAJAS ENTRE COLEGAS?PeC es un club privado de masturbación grupal entre hombres adultos. Las reuniones son exclusivas para miembros. Puedes hacerte socio en la puerta o en la web antes del evento. \n✅ REQUISITOS DE MEMBRESÍA• +18 años• Identificarse como hombre• Aceptar y cumplir el Código de Conducta \n🧭 REGLAS DEL JUEGO• Aquí venimos a disfrutar del placer\, el respeto y el colegueo sin tabúes.• Se permite la masturbación abierta y mutua\, siempre con consentimiento.• Prohibido el sexo oral\, anal o cualquier penetración.• Nada va dentro de nada de nadie y no hay labios debajo de las caderas. \n\n📞 CONTACTO✉️ info@pajasentrecolegas.es · 📱 WhatsApp 666 83 83 91 \n⚖️ AVISO LEGALPEC es una asociación sin ánimo de lucro: tu aportación ayuda a mantener el espacio y la actividad comunitaria. Evento privado para socios\, no abierto al público general. Prohibida la grabación o difusión de imágenes dentro del club.
URL:https://pajasentrecolegas.es/event/pec-madrid-jueves-2-de-octubre-precio-de-cine/
LOCATION:Sede Principal Madrid – Argüelles (Club de Pajas Madrid)\, Calle del Marqués de Urquijo\, 42\, Madrid\, Madrid\, 28008\, Spain
CATEGORIES:* Madrid,PeC-liculas
ATTACH;FMTTYPE=image/png:https://pajasentrecolegas.es/wp-content/uploads/2025/09/021025.png
ORGANIZER;CN="Jota Master":MAILTO:nacho@pajasentrecolegas.es
END:VEVENT
BEGIN:VEVENT
DTSTART;TZID=Europe/Madrid:20251003T210000
DTEND;TZID=Europe/Madrid:20251003T233000
DTSTAMP:20260425T154104
CREATED:20250928T145414Z
LAST-MODIFIED:20251003T175853Z
UID:21757-1759525200-1759534200@pajasentrecolegas.es
SUMMARY:PeC Madrid – Viernes 3 Octubre
DESCRIPTION:🏛️ Asociación PEC · Pajas entre Colegas — Entidad sin ánimo de lucroActividad privada y exclusiva para socios. Las aportaciones/cuotas se destinan íntegramente al mantenimiento del local\, limpieza\, suministros y actividades asociativas. \n\n🕗 HORARIO Y ACCESO \n⏱️Check-in: 20:00–21:00. La entrada solo se realiza dentro de esa franja.🔐A las 21:00 la puerta se cierra y no se permite la entrada a personas que lleguen tarde.⏳Sugerencia: llega antes de 20:45 para un acceso ágil. \n🚫Nota: Las llegadas fuera de horario no dan derecho a reembolso ni cambio de entrada. \n\nℹ️ Naturaleza del evento (ámbito asociativo)PeC es un club privado exclusivo para hombres adultos. Organizamos encuentros de masturbación grupal y mutua desde el \n✅ Requisitos de acceso• ✅ Solo mayores de 18 y miembros del club.• Miembros registrados (puedes hacerte socio en puerta o en nuestra web)• 🤝Aceptar y cumplir el Código de Conducta \n🧭 Normas de conducta• Se permite la masturbación abierta y mutua\, siempre con consentimiento• Prohibido el sexo anal u oral y cualquier penetración• “Nada entra en nada” y no hay labios bajo la cintura \n💶 APORTACIÓN• Tu aportación es una contribución asociativa destinada 100% al mantenimiento de las instalaciones y a la actividad de la asociación (sin reparto de beneficios). \n🎟️ Aportación y reserva• Recomendamos gestionar la aportación online.• En puerta: recargo de 6 € y solo en efectivo. \n📍 Dirección y control de acceso• C/ Marqués de Urquijo 42\, Madrid• Portero automático: pulsa el botón justo debajo del primero; el staff abrirá al oírlo• El vigilante solicitará tu documento de identidad \n⚖️ Aviso legalEvento privado para socios; prohibida la grabación o difusión de imágenes dentro del club. Las aportaciones/cuotas se destinan íntegramente al mantenimiento de las instalaciones y a la actividad asociativa.. \n📞 CONTACTO✉️ info@pajasentrecolegas.es · 📱 WhatsApp 666 83 83 91
URL:https://pajasentrecolegas.es/event/pec-madrid-viernes-3-octubre/
LOCATION:Sede Principal Madrid – Argüelles (Club de Pajas Madrid)\, Calle del Marqués de Urquijo\, 42\, Madrid\, Madrid\, 28008\, Spain
CATEGORIES:* Madrid
ATTACH;FMTTYPE=image/png:https://pajasentrecolegas.es/wp-content/uploads/2025/09/031025.png
END:VEVENT
BEGIN:VEVENT
DTSTART;TZID=Europe/Madrid:20251010T210000
DTEND;TZID=Europe/Madrid:20251010T233000
DTSTAMP:20260425T154104
CREATED:20251005T115335Z
LAST-MODIFIED:20251007T130451Z
UID:22053-1760130000-1760139000@pajasentrecolegas.es
SUMMARY:PeC Madrid – Viernes 10 Octubre
DESCRIPTION:🏛️ Asociación PEC · Pajas entre Colegas — Entidad sin ánimo de lucroActividad privada y exclusiva para socios. Las aportaciones/cuotas se destinan íntegramente al mantenimiento del local\, limpieza\, suministros y actividades asociativas. \n\n🕗 HORARIO Y ACCESO \n⏱️Check-in: 20:00–21:00. La entrada solo se realiza dentro de esa franja.🔐A las 21:00 la puerta se cierra y no se permite la entrada a personas que lleguen tarde.⏳Sugerencia: llega antes de 20:45 para un acceso ágil. \n🚫Nota: Las llegadas fuera de horario no dan derecho a reembolso ni cambio de entrada. \n\nℹ️ Naturaleza del evento (ámbito asociativo)PeC es un club privado exclusivo para hombres adultos. Organizamos encuentros de masturbación grupal y mutua desde el \n✅ Requisitos de acceso• ✅ Solo mayores de 18 y miembros del club.• Miembros registrados (puedes hacerte socio en puerta o en nuestra web)• 🤝Aceptar y cumplir el Código de Conducta \n🧭 Normas de conducta• Se permite la masturbación abierta y mutua\, siempre con consentimiento• Prohibido el sexo anal u oral y cualquier penetración• “Nada entra en nada” y no hay labios bajo la cintura \n💶 APORTACIÓN• Tu aportación es una contribución asociativa destinada 100% al mantenimiento de las instalaciones y a la actividad de la asociación (sin reparto de beneficios). \n🎟️ Aportación y reserva• Recomendamos gestionar la aportación online.• En puerta: recargo de 6 € y solo en efectivo. \n📍 Dirección y control de acceso• C/ Marqués de Urquijo 42\, Madrid• Portero automático: pulsa el botón justo debajo del primero; el staff abrirá al oírlo• El vigilante solicitará tu documento de identidad \n⚖️ Aviso legalEvento privado para socios; prohibida la grabación o difusión de imágenes dentro del club. Las aportaciones/cuotas se destinan íntegramente al mantenimiento de las instalaciones y a la actividad asociativa.. \n📞 CONTACTO✉️ info@pajasentrecolegas.es · 📱 WhatsApp 666 83 83 91
URL:https://pajasentrecolegas.es/event/pec-madrid-viernes-10-octubre/
LOCATION:Sede Principal Madrid – Argüelles (Club de Pajas Madrid)\, Calle del Marqués de Urquijo\, 42\, Madrid\, Madrid\, 28008\, Spain
CATEGORIES:* Madrid
ATTACH;FMTTYPE=image/png:https://pajasentrecolegas.es/wp-content/uploads/2025/10/101025.png
END:VEVENT
BEGIN:VEVENT
DTSTART;TZID=Europe/Madrid:20251012T210000
DTEND;TZID=Europe/Madrid:20251012T233000
DTSTAMP:20260425T154104
CREATED:20251005T174016Z
LAST-MODIFIED:20251109T113540Z
UID:22099-1760302800-1760311800@pajasentrecolegas.es
SUMMARY:PeC Madrid – domingo 12 de octubre Des-PeC-tar - Precio ☕
DESCRIPTION:🏛️ Asociación PEC · Pajas entre Colegas — Entidad sin ánimo de lucroActividad privada y exclusiva para socios. Las aportaciones/cuotas se destinan íntegramente al mantenimiento del local\, limpieza\, suministros y actividades asociativas. \nDes-PeC-tar — Mañanero de colegas (12:00–14:30) \nEste domingo tienes una cita con el placer mañanero. Ven a Des-PeC-tar y disfruta de un ambiente morboso y de colegueo\, con precio reducido para socios con cuota y nuestra actividad estrella ya permitida. La diversión está garantizada. \n\n🕗 HORARIO Y ACCESO \n⏱️Check-in: 11:30–12:00. La entrada solo se realiza dentro de esa franja.🔐A las 12:00 la puerta se cierra y no se permite la entrada a personas que lleguen tarde.⏳Sugerencia: llega antes de 11:45 para un acceso ágil. \n🚫Nota: Las llegadas fuera de horario no dan derecho a reembolso ni cambio de entrada. \n\n💳 ENTRADAS• Tarifa reducida exclusiva para socios con cuota activa.• En puerta: recargo de 6 € (pago en efectivo). \n📍 ACCESO• Dirección: C/ Marqués de Urquijo 42\, Madrid.• Portero automático: pulsa el botón situado justo debajo del primero; el staff te abre.• Control de acceso: el vigilante solicitará tu identificación \n\nℹ️ ¿QUÉ ES PAJAS ENTRE COLEGAS?PeC es un club privado de masturbación grupal entre hombres adultos. Las reuniones son exclusivas para miembros. Puedes hacerte socio en la puerta o en la web antes del evento. \n✅ REQUISITOS DE MEMBRESÍA• +18 años• Identificarse como hombre• Aceptar y cumplir el Código de Conducta \n🧭 REGLAS DEL JUEGO• Aquí venimos a disfrutar del placer\, el respeto y el colegueo sin tabúes.• Se permite la masturbación abierta y mutua\, siempre con consentimiento.• Prohibido el sexo oral\, anal o cualquier penetración.• Nada va dentro de nada de nadie y no hay labios debajo de las caderas. \n\n📞 CONTACTO✉️ info@pajasentrecolegas.es · 📱 WhatsApp 666 83 83 91 \n⚖️ AVISO LEGALPEC es una asociación sin ánimo de lucro: tu aportación ayuda a mantener el espacio y la actividad comunitaria. Evento privado para socios\, no abierto al público general. Prohibida la grabación o difusión de imágenes dentro del club.
URL:https://pajasentrecolegas.es/event/pec-madrid-domingo-12-de-octubre-des-pec-tar-precio-%e2%98%95/
LOCATION:Sede Principal Madrid – Argüelles (Club de Pajas Madrid)\, Calle del Marqués de Urquijo\, 42\, Madrid\, Madrid\, 28008\, Spain
CATEGORIES:* Madrid,Des-PeC-tar
ATTACH;FMTTYPE=image/png:https://pajasentrecolegas.es/wp-content/uploads/2025/10/121025.png
ORGANIZER;CN="Jota Master":MAILTO:nacho@pajasentrecolegas.es
END:VEVENT
BEGIN:VEVENT
DTSTART;TZID=Europe/Madrid:20251017T210000
DTEND;TZID=Europe/Madrid:20251017T233000
DTSTAMP:20260425T154104
CREATED:20251005T122200Z
LAST-MODIFIED:20251017T170209Z
UID:22077-1760734800-1760743800@pajasentrecolegas.es
SUMMARY:PeC Madrid – Viernes 17 Octubre -Noche de Calzoncillos & Gayumbos (Underwear Party)
DESCRIPTION:🏛️ Asociación PEC · Pajas entre Colegas — Entidad sin ánimo de lucroActividad privada y exclusiva para socios. Las aportaciones/cuotas se destinan íntegramente al mantenimiento del local\, limpieza\, suministros y actividades asociativas. \n\n🕗 HORARIO Y ACCESO \n⏱️Check-in: 20:00–21:00. La entrada solo se realiza dentro de esa franja.🔐A las 21:00 la puerta se cierra y no se permite la entrada a personas que lleguen tarde.⏳Sugerencia: llega antes de 20:45 para un acceso ágil. \n🚫Nota: Las llegadas fuera de horario no dan derecho a reembolso ni cambio de entrada. \n\n \n\n🎽🔥 Noche de Calzoncillos & Gayumbos (Underwear Party)\nBoxers 🩳 · Slips 🩲 · Tangas 👙 · Suspensorios 🩼 · Nada 😏 \n🎯 ¿De qué va? PeC se vuelve underwear.🩳 calzoncillos/bóxers · 🩲 slips/gayumbos · 🩼 jockstrap/suspensorio · 🏊‍♂️ baño minimal/🥵 deportivo · 🧥 bata abierta… o sin nada 😉 \nLa idea: comodidad + calentito + compartir la pelota entre colegas 🤝🍆 \n🎁 Premios a mitad (22:15 aprox.)\nSorteamos 3 pases GRATIS 🎟️ entre quienes vengan visiblemente temáticos.➡️ Los entregamos en el momento ✅ \n⚠️ Nota realista (somos un club de pajas)\nEn el área de juego puede haber semen y lubricante 💦.Cada uno se limpia sus prendas 🧻👕 (trae recambio o gayumbo de intercambio si quieres 🎒). \n✅ ¿Obligatorio?\nNo. Es 100% opcional. Ven en tu ropa interior favorita… o en pelotas 🙈Siempre: Respeto 🤝 · Higiene 🧼 · Código de Conducta 📜 \n\nℹ️ Naturaleza del evento (ámbito asociativo) \nPeC es un club privado exclusivo para hombres adultos. Organizamos encuentros de masturbación grupal y mutua desde el \n✅ Requisitos de acceso• ✅ Solo mayores de 18 y miembros del club.• Miembros registrados (puedes hacerte socio en puerta o en nuestra web)• 🤝Aceptar y cumplir el Código de Conducta \n🧭 Normas de conducta• Se permite la masturbación abierta y mutua\, siempre con consentimiento• Prohibido el sexo anal u oral y cualquier penetración• “Nada entra en nada” y no hay labios bajo la cintura \n💶 APORTACIÓN• Tu aportación es una contribución asociativa destinada 100% al mantenimiento de las instalaciones y a la actividad de la asociación (sin reparto de beneficios). \n🎟️ Aportación y reserva• Recomendamos gestionar la aportación online.• En puerta: recargo de 6 € y solo en efectivo. \n📍 Dirección y control de acceso• C/ Marqués de Urquijo 42\, Madrid• Portero automático: pulsa el botón justo debajo del primero; el staff abrirá al oírlo• El vigilante solicitará tu documento de identidad \n⚖️ Aviso legalEvento privado para socios; prohibida la grabación o difusión de imágenes dentro del club. Las aportaciones/cuotas se destinan íntegramente al mantenimiento de las instalaciones y a la actividad asociativa.. \n📞 CONTACTO✉️ info@pajasentrecolegas.es · 📱 WhatsApp 666 83 83 91
URL:https://pajasentrecolegas.es/event/pec-madrid-viernes-24-octubre-noche-de-calzoncillos-gayumbos-underwear-party/
LOCATION:Sede Principal Madrid – Argüelles (Club de Pajas Madrid)\, Calle del Marqués de Urquijo\, 42\, Madrid\, Madrid\, 28008\, Spain
CATEGORIES:* Madrid,Evento Temático
ATTACH;FMTTYPE=image/png:https://pajasentrecolegas.es/wp-content/uploads/2025/10/1710251.png
END:VEVENT
BEGIN:VEVENT
DTSTART;TZID=Europe/Madrid:20251019T190000
DTEND;TZID=Europe/Madrid:20251019T213000
DTSTAMP:20260425T154104
CREATED:20251006T152703Z
LAST-MODIFIED:20251014T190211Z
UID:22114-1760900400-1760909400@pajasentrecolegas.es
SUMMARY:PeC Madrid – Domingo 19 octubre Tarde PeCAR
DESCRIPTION:🏛️ Asociación PEC · Pajas entre Colegas — Entidad sin ánimo de lucroActividad privada y exclusiva para socios. Las aportaciones/cuotas se destinan íntegramente al mantenimiento del local\, limpieza\, suministros y actividades asociativas. \n\n🕗 HORARIO Y ACCESO \n⏱️Check-in: 18:00–19:00. La entrada solo se realiza dentro de esa franja.🔐A las 19:00 la puerta se cierra y no se permite la entrada a personas que lleguen tarde.⏳Sugerencia: llega antes de 18:45 para un acceso ágil. \n🚫Nota: Las llegadas fuera de horario no dan derecho a reembolso ni cambio de entrada. \n\nℹ️ Naturaleza del evento (ámbito asociativo)PeC es un club privado exclusivo para hombres adultos. Organizamos encuentros de masturbación grupal y mutua desde el \n✅ Requisitos de acceso• ✅ Solo mayores de 18 y miembros del club.• Miembros registrados (puedes hacerte socio en puerta o en nuestra web)• 🤝Aceptar y cumplir el Código de Conducta \n🧭 Normas de conducta• Se permite la masturbación abierta y mutua\, siempre con consentimiento• Prohibido el sexo anal u oral y cualquier penetración• “Nada entra en nada” y no hay labios bajo la cintura \n💶 APORTACIÓN• Tu aportación es una contribución asociativa destinada 100% al mantenimiento de las instalaciones y a la actividad de la asociación (sin reparto de beneficios). \n🎟️ Aportación y reserva• Recomendamos gestionar la aportación online.• En puerta: recargo de 6 € y solo en efectivo. \n📍 Dirección y control de acceso• C/ Marqués de Urquijo 42\, Madrid• Portero automático: pulsa el botón justo debajo del primero; el staff abrirá al oírlo• El vigilante solicitará tu documento de identidad \n⚖️ Aviso legalEvento privado para socios; prohibida la grabación o difusión de imágenes dentro del club. Las aportaciones/cuotas se destinan íntegramente al mantenimiento de las instalaciones y a la actividad asociativa.. \n📞 CONTACTO✉️ info@pajasentrecolegas.es · 📱 WhatsApp 666 83 83 91
URL:https://pajasentrecolegas.es/event/pec-madrid-domingo-19-octubre-tarde-pecar/
LOCATION:Sede Principal Madrid – Argüelles (Club de Pajas Madrid)\, Calle del Marqués de Urquijo\, 42\, Madrid\, Madrid\, 28008\, Spain
CATEGORIES:* Madrid,TardePECar
ATTACH;FMTTYPE=image/png:https://pajasentrecolegas.es/wp-content/uploads/2025/10/191025.png
ORGANIZER;CN="Jota Master":MAILTO:nacho@pajasentrecolegas.es
END:VEVENT
BEGIN:VEVENT
DTSTART;TZID=Europe/Madrid:20251023T210000
DTEND;TZID=Europe/Madrid:20251023T233000
DTSTAMP:20260425T154104
CREATED:20251005T113120Z
LAST-MODIFIED:20251020T140033Z
UID:22026-1761253200-1761262200@pajasentrecolegas.es
SUMMARY:PeC Madrid – jueves 23 de octubre PeC-liculas "PrEcio de Cine"
DESCRIPTION:🎬 JUEVES DE PeC-LÍCULAS · ¡PLANAZO! \n🏛️ Asociación PEC · Pajas entre Colegas — Entidad sin ánimo de lucroActividad privada y exclusiva para socios. Las aportaciones/cuotas se destinan íntegramente al mantenimiento del local\, limpieza\, suministros y actividades asociativas. \n😈 Este jueves tienes una cita con el placer. Ven a PeC-lículas y disfruta de cine X en ambiente morboso y de colegueo\, con precio reducido para socios con cuota y nuestra actividad estrella ya permitida. La diversión está garantizada. \n\n🕗 HORARIO Y ACCESO \n⏱️Check-in: 20:00–21:00. La entrada solo se realiza dentro de esa franja.🔐A las 21:00 la puerta se cierra y no se permite la entrada a personas que lleguen tarde.⏳Sugerencia: llega antes de 20:45 para un acceso ágil. \n🚫Nota: Las llegadas fuera de horario no dan derecho a reembolso ni cambio de entrada. \n\n💳 ENTRADAS• Tarifa reducida exclusiva para socios con cuota activa.• En puerta: recargo de 6 € (pago en efectivo). \n📍 ACCESO• Dirección: C/ Marqués de Urquijo 42\, Madrid.• Portero automático: pulsa el botón situado justo debajo del primero; el staff te abre.• Control de acceso: el vigilante solicitará tu identificación \n\nℹ️ ¿QUÉ ES PAJAS ENTRE COLEGAS?PeC es un club privado de masturbación grupal entre hombres adultos. Las reuniones son exclusivas para miembros. Puedes hacerte socio en la puerta o en la web antes del evento. \n✅ REQUISITOS DE MEMBRESÍA• +18 años• Identificarse como hombre• Aceptar y cumplir el Código de Conducta \n🧭 REGLAS DEL JUEGO• Aquí venimos a disfrutar del placer\, el respeto y el colegueo sin tabúes.• Se permite la masturbación abierta y mutua\, siempre con consentimiento.• Prohibido el sexo oral\, anal o cualquier penetración.• Nada va dentro de nada de nadie y no hay labios debajo de las caderas. \n\n📞 CONTACTO✉️ info@pajasentrecolegas.es · 📱 WhatsApp 666 83 83 91 \n⚖️ AVISO LEGALPEC es una asociación sin ánimo de lucro: tu aportación ayuda a mantener el espacio y la actividad comunitaria. Evento privado para socios\, no abierto al público general. Prohibida la grabación o difusión de imágenes dentro del club.
URL:https://pajasentrecolegas.es/event/pec-madrid-jueves-16-de-octubre-precio-de-cine-2/
LOCATION:Sede Principal Madrid – Argüelles (Club de Pajas Madrid)\, Calle del Marqués de Urquijo\, 42\, Madrid\, Madrid\, 28008\, Spain
CATEGORIES:* Madrid,Pases Bonificados,PeC-liculas
ATTACH;FMTTYPE=image/png:https://pajasentrecolegas.es/wp-content/uploads/2025/10/231025.png
ORGANIZER;CN="Jota Master":MAILTO:nacho@pajasentrecolegas.es
END:VEVENT
BEGIN:VEVENT
DTSTART;TZID=Europe/Madrid:20251031T210000
DTEND;TZID=Europe/Madrid:20251031T233000
DTSTAMP:20260425T154104
CREATED:20251005T115946Z
LAST-MODIFIED:20251014T190852Z
UID:22069-1761944400-1761953400@pajasentrecolegas.es
SUMMARY:PeC Madrid – Viernes 31 Octubre
DESCRIPTION:🏛️ Asociación PEC · Pajas entre Colegas — Entidad sin ánimo de lucroActividad privada y exclusiva para socios. Las aportaciones/cuotas se destinan íntegramente al mantenimiento del local\, limpieza\, suministros y actividades asociativas. \n\n🕗 HORARIO Y ACCESO \n⏱️Check-in: 20:00–21:00. La entrada solo se realiza dentro de esa franja.🔐A las 21:00 la puerta se cierra y no se permite la entrada a personas que lleguen tarde.⏳Sugerencia: llega antes de 20:45 para un acceso ágil. \n🚫Nota: Las llegadas fuera de horario no dan derecho a reembolso ni cambio de entrada. \n\n \n \n \n \n \n🎃👻 Noche de Difuntos PeC — Halloween Underplay\nDisfrázate y dale a la pelota entre monstruos consensuados 😈. \nIdeas: calabaza 🎃\, fantasma 👻\, diablillo 😈\, vampiro 🧛‍♂️\, zombie 🧟‍♂️\, máscara + ropa mínima 🩸… o sin nada (truco o trato 😏).Premios (22:15 aprox.): \n3 PASES GRATIS 🎟️ a los 3 mejores disfraces (votación rápida/jurado PeC) — entrega en el momento ✅. \nNota realista: área de juego = puede haber semen/lubricante 💦; cada uno limpia su ropa 🧻 (trae recambio 🎒).Tema opcional. Siempre: Respeto 🤝 · Higiene 🧼 · Código PeC 📜. \n\nℹ️ Naturaleza del evento (ámbito asociativo)PeC es un club privado exclusivo para hombres adultos. Organizamos encuentros de masturbación grupal y mutua desde el \n✅ Requisitos de acceso• ✅ Solo mayores de 18 y miembros del club.• Miembros registrados (puedes hacerte socio en puerta o en nuestra web)• 🤝Aceptar y cumplir el Código de Conducta \n🧭 Normas de conducta• Se permite la masturbación abierta y mutua\, siempre con consentimiento• Prohibido el sexo anal u oral y cualquier penetración• “Nada entra en nada” y no hay labios bajo la cintura \n💶 APORTACIÓN• Tu aportación es una contribución asociativa destinada 100% al mantenimiento de las instalaciones y a la actividad de la asociación (sin reparto de beneficios). \n🎟️ Aportación y reserva• Recomendamos gestionar la aportación online.• En puerta: recargo de 6 € y solo en efectivo. \n📍 Dirección y control de acceso• C/ Marqués de Urquijo 42\, Madrid• Portero automático: pulsa el botón justo debajo del primero; el staff abrirá al oírlo• El vigilante solicitará tu documento de identidad \n⚖️ Aviso legalEvento privado para socios; prohibida la grabación o difusión de imágenes dentro del club. Las aportaciones/cuotas se destinan íntegramente al mantenimiento de las instalaciones y a la actividad asociativa.. \n📞 CONTACTO✉️ info@pajasentrecolegas.es · 📱 WhatsApp 666 83 83 91
URL:https://pajasentrecolegas.es/event/pec-madrid-viernes-31-octubre/
LOCATION:Sede Principal Madrid – Argüelles (Club de Pajas Madrid)\, Calle del Marqués de Urquijo\, 42\, Madrid\, Madrid\, 28008\, Spain
CATEGORIES:* Madrid,Evento Temático
ATTACH;FMTTYPE=image/png:https://pajasentrecolegas.es/wp-content/uploads/2025/10/311025-1.png
END:VEVENT
END:VCALENDAR